BEGIN:VCALENDAR
VERSION:2.0
PRODID:-//Young Athletes Foundation - ECPv6.15.17.1//NONSGML v1.0//EN
CALSCALE:GREGORIAN
METHOD:PUBLISH
X-ORIGINAL-URL:https://yaf.grandmasmarathon.com
X-WR-CALDESC:Events for Young Athletes Foundation
REFRESH-INTERVAL;VALUE=DURATION:PT1H
X-Robots-Tag:noindex
X-PUBLISHED-TTL:PT1H
BEGIN:VTIMEZONE
TZID:UTC
BEGIN:STANDARD
TZOFFSETFROM:+0000
TZOFFSETTO:+0000
TZNAME:UTC
DTSTART:20220101T000000
END:STANDARD
END:VTIMEZONE
BEGIN:VEVENT
DTSTART;VALUE=DATE:20231028
DTEND;VALUE=DATE:20231029
DTSTAMP:20260419T131803
CREATED:20230202T191049Z
LAST-MODIFIED:20230202T191049Z
UID:2495-1698451200-1698537599@yaf.grandmasmarathon.com
SUMMARY:North End Nightmare 5K
DESCRIPTION:A spooky end to our annual racing calendar\, the North End Nightmare 5K offers a chance to combine running and Halloween! \nEnjoy scary surprises and haunted attractions throughout the event\, PLUS a costume contest offers the best-dressed participants a chance to win wonderful prizes.
URL:https://yaf.grandmasmarathon.com/events-calendar/north-end-nightmare-5k/
CATEGORIES:North End Nightmare 5K
ATTACH;FMTTYPE=image/jpeg:https://yaf.grandmasmarathon.com/wp-content/uploads/sites/2/2022/02/Lumberjack-Girls_North-End-Nightmare_2019.jpg
ORGANIZER;CN="Young Athletes Foundation":MAILTO:grandmas@grandmasmarathon.com
END:VEVENT
END:VCALENDAR