BEGIN:VCALENDAR
VERSION:2.0
PRODID:-//Young Athletes Foundation - ECPv6.15.17.1//NONSGML v1.0//EN
CALSCALE:GREGORIAN
METHOD:PUBLISH
X-ORIGINAL-URL:https://yaf.grandmasmarathon.com
X-WR-CALDESC:Events for Young Athletes Foundation
REFRESH-INTERVAL;VALUE=DURATION:PT1H
X-Robots-Tag:noindex
X-PUBLISHED-TTL:PT1H
BEGIN:VTIMEZONE
TZID:America/Chicago
BEGIN:DAYLIGHT
TZOFFSETFROM:-0600
TZOFFSETTO:-0500
TZNAME:CDT
DTSTART:20210314T080000
END:DAYLIGHT
BEGIN:STANDARD
TZOFFSETFROM:-0500
TZOFFSETTO:-0600
TZNAME:CST
DTSTART:20211107T070000
END:STANDARD
BEGIN:DAYLIGHT
TZOFFSETFROM:-0600
TZOFFSETTO:-0500
TZNAME:CDT
DTSTART:20220313T080000
END:DAYLIGHT
BEGIN:STANDARD
TZOFFSETFROM:-0500
TZOFFSETTO:-0600
TZNAME:CST
DTSTART:20221106T070000
END:STANDARD
BEGIN:DAYLIGHT
TZOFFSETFROM:-0600
TZOFFSETTO:-0500
TZNAME:CDT
DTSTART:20230312T080000
END:DAYLIGHT
BEGIN:STANDARD
TZOFFSETFROM:-0500
TZOFFSETTO:-0600
TZNAME:CST
DTSTART:20231105T070000
END:STANDARD
END:VTIMEZONE
BEGIN:VTIMEZONE
TZID:UTC
BEGIN:STANDARD
TZOFFSETFROM:+0000
TZOFFSETTO:+0000
TZNAME:UTC
DTSTART:20210101T000000
END:STANDARD
END:VTIMEZONE
BEGIN:VEVENT
DTSTART;TZID=America/Chicago:20220423T090000
DTEND;TZID=America/Chicago:20220423T120000
DTSTAMP:20260425T130710
CREATED:20220220T090013Z
LAST-MODIFIED:20220301T183707Z
UID:414-1650704400-1650715200@yaf.grandmasmarathon.com
SUMMARY:Fitger's 5K
DESCRIPTION:
URL:https://yaf.grandmasmarathon.com/events-calendar/fitgers-5k/
LOCATION:Fitger’s\, 600 E Superior St\, Duluth\, MN\, 55802\, United States
CATEGORIES:Fitger's 5K,KP Challenge,YAF Foundation
ATTACH;FMTTYPE=image/jpeg:https://yaf.grandmasmarathon.com/wp-content/uploads/sites/2/2022/02/Fitgers_Group-Photo-with-Medal_2018.jpg
ORGANIZER;CN="Young Athletes Foundation":MAILTO:grandmas@grandmasmarathon.com
END:VEVENT
BEGIN:VEVENT
DTSTART;TZID=UTC:20220319T100000
DTEND;TZID=UTC:20220319T123000
DTSTAMP:20260425T130710
CREATED:20220301T004405Z
LAST-MODIFIED:20220301T181053Z
UID:1529-1647684000-1647693000@yaf.grandmasmarathon.com
SUMMARY:Saint Fennessy 4K
DESCRIPTION:
URL:https://yaf.grandmasmarathon.com/events-calendar/saint-fennessy-4k/
LOCATION:Skyline Social and Games\, 4894 Miller Trunk Highway\, Hermantown\, MN\, 55811\, United States
CATEGORIES:KP Challenge,YAF Foundation
ATTACH;FMTTYPE=image/jpeg:https://yaf.grandmasmarathon.com/wp-content/uploads/sites/2/2022/02/Beers_Post-Race-Party_Saint-Fennessy-4K_2018.jpg
ORGANIZER;CN="Young Athletes Foundation":MAILTO:grandmas@grandmasmarathon.com
END:VEVENT
END:VCALENDAR